BEGIN:VCALENDAR
VERSION:2.0
PRODID:-//Vermont Higher Education Collaborative - ECPv6.15.20//NONSGML v1.0//EN
CALSCALE:GREGORIAN
METHOD:PUBLISH
X-ORIGINAL-URL:https://www.vthec.org
X-WR-CALDESC:Events for Vermont Higher Education Collaborative
REFRESH-INTERVAL;VALUE=DURATION:PT1H
X-Robots-Tag:noindex
X-PUBLISHED-TTL:PT1H
BEGIN:VTIMEZONE
TZID:America/New_York
BEGIN:DAYLIGHT
TZOFFSETFROM:-0500
TZOFFSETTO:-0400
TZNAME:EDT
DTSTART:20240310T070000
END:DAYLIGHT
BEGIN:STANDARD
TZOFFSETFROM:-0400
TZOFFSETTO:-0500
TZNAME:EST
DTSTART:20241103T060000
END:STANDARD
BEGIN:DAYLIGHT
TZOFFSETFROM:-0500
TZOFFSETTO:-0400
TZNAME:EDT
DTSTART:20250309T070000
END:DAYLIGHT
BEGIN:STANDARD
TZOFFSETFROM:-0400
TZOFFSETTO:-0500
TZNAME:EST
DTSTART:20251102T060000
END:STANDARD
BEGIN:DAYLIGHT
TZOFFSETFROM:-0500
TZOFFSETTO:-0400
TZNAME:EDT
DTSTART:20260308T070000
END:DAYLIGHT
BEGIN:STANDARD
TZOFFSETFROM:-0400
TZOFFSETTO:-0500
TZNAME:EST
DTSTART:20261101T060000
END:STANDARD
END:VTIMEZONE
BEGIN:VEVENT
DTSTART;TZID=America/New_York:20251217T083000
DTEND;TZID=America/New_York:20251217T143000
DTSTAMP:20260422T054807
CREATED:20251023T173448Z
LAST-MODIFIED:20251023T173449Z
UID:10000197-1765960200-1765981800@www.vthec.org
SUMMARY:Writing Measurable\, Standards-Based IEPs for Functional Skills
DESCRIPTION:Date:  \n\n\n\n\n\n\n\n\n\nPrice:  \n\n\n\n\n\n\n\n\n\nTopics: \n\n\nGeneral Education\n\n\n\n\nInstructor(s):  \n\n\n\nRuth Durkee\, J.D. \n\n\n\n\n\nEvent Type:  \n\n\n\nHybrid \n\n\n\n\n\n\n\nGraduate Credits:  \n\n\n\n3 \n\n\n\n\n\n\n\nRegister\n\n\n\n\n\n\n\n\n\n\nParticipants must attend all events:  \n\n\n\n\nEvent Date\n\n\n\nEvent Date\n\n\n\n\n\n\n\n\n\nSince the Vermont Special Education Rule Changes went into effect in summer 2023\, educators have increasingly focused on refining practices to integrate functional skills as a foundational area in special education. This workshop will explore how social-emotional learning (SEL) standards and their learning progressions can inform the writing of meaningful Present Levels of Educational and Functional Performance (PLEFPs) statements and the development of specific\, measurable IEP goals and objectives. The session will also emphasize creating goals and objectives that facilitate efficient data collection and accurate progress monitoring.Participants will:  \n\n\n\n\nUse the CASEL framework to identify and interpret key SEL standards relevant to functional skill development\n\n\n\nConsider a variety of assessments that can be used to inform PLEFPs for functional skills.\n\n\n\nWrite clear\, specific\, standards-based\, and measurable IEP present level statements and goals and objectives for functional skills that follow a defined learning progression.\n\n\n\nEvaluate reliable and efficient methods for collecting data on progress toward functional skill goals.\n\n\n\n\n\n\n\n\n\n\n\n\nPresented by\n\n\n\nJen Patenaude
URL:https://www.vthec.org/event/writing-measurable-standards-based-ieps-for-functional-skills/
LOCATION:VT
CATEGORIES:Professional Learning,Workshops
ATTACH;FMTTYPE=image/jpeg:https://www.vthec.org/wp-content/uploads/2024/09/10_3_2_Orientation_to_Special_Education.jpg
END:VEVENT
END:VCALENDAR