BEGIN:VCALENDAR
VERSION:2.0
PRODID:-//Vermont Higher Education Collaborative - ECPv6.15.20//NONSGML v1.0//EN
CALSCALE:GREGORIAN
METHOD:PUBLISH
X-WR-CALNAME:Vermont Higher Education Collaborative
X-ORIGINAL-URL:https://www.vthec.org
X-WR-CALDESC:Events for Vermont Higher Education Collaborative
REFRESH-INTERVAL;VALUE=DURATION:PT1H
X-Robots-Tag:noindex
X-PUBLISHED-TTL:PT1H
BEGIN:VTIMEZONE
TZID:America/New_York
BEGIN:DAYLIGHT
TZOFFSETFROM:-0500
TZOFFSETTO:-0400
TZNAME:EDT
DTSTART:20240310T070000
END:DAYLIGHT
BEGIN:STANDARD
TZOFFSETFROM:-0400
TZOFFSETTO:-0500
TZNAME:EST
DTSTART:20241103T060000
END:STANDARD
BEGIN:DAYLIGHT
TZOFFSETFROM:-0500
TZOFFSETTO:-0400
TZNAME:EDT
DTSTART:20250309T070000
END:DAYLIGHT
BEGIN:STANDARD
TZOFFSETFROM:-0400
TZOFFSETTO:-0500
TZNAME:EST
DTSTART:20251102T060000
END:STANDARD
BEGIN:DAYLIGHT
TZOFFSETFROM:-0500
TZOFFSETTO:-0400
TZNAME:EDT
DTSTART:20260308T070000
END:DAYLIGHT
BEGIN:STANDARD
TZOFFSETFROM:-0400
TZOFFSETTO:-0500
TZNAME:EST
DTSTART:20261101T060000
END:STANDARD
END:VTIMEZONE
BEGIN:VEVENT
DTSTART;TZID=America/New_York:20251212T083000
DTEND;TZID=America/New_York:20251212T143000
DTSTAMP:20260422T070540
CREATED:20251010T183158Z
LAST-MODIFIED:20251010T183159Z
UID:10000195-1765528200-1765549800@www.vthec.org
SUMMARY:Anxiety and ADHD: Distinctions to Guide Intervention Planning
DESCRIPTION:Date:  \n\n\n\n\n\n\n\n\n\nPrice:  \n\n\n\n\n\n\n\n\n\nTopics: \n\n\nGeneral Education\n\n\n\n\nInstructor(s):  \n\n\n\nRuth Durkee\, J.D. \n\n\n\n\n\nEvent Type:  \n\n\n\nHybrid \n\n\n\n\n\n\n\nGraduate Credits:  \n\n\n\n3 \n\n\n\n\n\n\n\nRegister\n\n\n\n\n\n\n\n\n\n\nParticipants must attend all events:  \n\n\n\n\nEvent Date\n\n\n\nEvent Date\n\n\n\n\n\n\n\n\n\nThis workshop will explore the nuanced similarities and differences between anxiety and ADHD diagnoses\, and will review key features involved in the process of differential diagnosis. Participants will gain a deeper understanding of the overlapping symptoms—such as inattention\, restlessness\, and emotional dysregulation—and how these often co-occur and may be misinterpreted. Through case examples and practical tools\, the workshop will highlight how identifying the distinct and shared challenges associated with each diagnosis can inform both targeted interventions and individualized classroom accommodations. Participants will leave with actionable strategies to better support students’ learning\, behavior\, and emotional needs. \n\n\n\nParticipants will: \n\n\n\n\nDifferentiate between the core symptoms of anxiety and ADHD\, including overlapping features\, to improve accuracy in identifying and understanding each diagnosis.\n\n\n\nAnalyze the impact of executive functioning and coping challenges specific to anxiety and ADHD\, and how these contribute to behavior and performance in academic and social settings.\n\n\n\nUse an accurate understanding of the diagnosis to identify targeted strategies and accommodations that support students with anxiety\, ADHD\, or both.\n\n\n\n\n\n\n\n\n\n\n\n\nPresented by\n\n\n\nHeather Flynn
URL:https://www.vthec.org/event/anxiety-and-adhd-distinctions-to-guide-intervention-planning/
LOCATION:VT
CATEGORIES:Professional Learning,Workshops
ATTACH;FMTTYPE=image/jpeg:https://www.vthec.org/wp-content/uploads/2025/04/abstract-illustration-symbolizing-mental-health-and-adhd-awareness-with-arrows-representing-thoughts.-8378740-scaled-e1731362262756.jpg
END:VEVENT
END:VCALENDAR