BEGIN:VCALENDAR
VERSION:2.0
PRODID:-//Vermont Higher Education Collaborative - ECPv6.15.20//NONSGML v1.0//EN
CALSCALE:GREGORIAN
METHOD:PUBLISH
X-ORIGINAL-URL:https://www.vthec.org
X-WR-CALDESC:Events for Vermont Higher Education Collaborative
REFRESH-INTERVAL;VALUE=DURATION:PT1H
X-Robots-Tag:noindex
X-PUBLISHED-TTL:PT1H
BEGIN:VTIMEZONE
TZID:America/New_York
BEGIN:DAYLIGHT
TZOFFSETFROM:-0500
TZOFFSETTO:-0400
TZNAME:EDT
DTSTART:20240310T070000
END:DAYLIGHT
BEGIN:STANDARD
TZOFFSETFROM:-0400
TZOFFSETTO:-0500
TZNAME:EST
DTSTART:20241103T060000
END:STANDARD
BEGIN:DAYLIGHT
TZOFFSETFROM:-0500
TZOFFSETTO:-0400
TZNAME:EDT
DTSTART:20250309T070000
END:DAYLIGHT
BEGIN:STANDARD
TZOFFSETFROM:-0400
TZOFFSETTO:-0500
TZNAME:EST
DTSTART:20251102T060000
END:STANDARD
BEGIN:DAYLIGHT
TZOFFSETFROM:-0500
TZOFFSETTO:-0400
TZNAME:EDT
DTSTART:20260308T070000
END:DAYLIGHT
BEGIN:STANDARD
TZOFFSETFROM:-0400
TZOFFSETTO:-0500
TZNAME:EST
DTSTART:20261101T060000
END:STANDARD
END:VTIMEZONE
BEGIN:VEVENT
DTSTART;TZID=America/New_York:20251203T083000
DTEND;TZID=America/New_York:20251203T143000
DTSTAMP:20260422T042530
CREATED:20251023T172057Z
LAST-MODIFIED:20251029T145410Z
UID:10000196-1764750600-1764772200@www.vthec.org
SUMMARY:The Science of Reading within a Structured Literacy Framework
DESCRIPTION:Date:  \n\n\n\n\n\n\n\n\n\nPrice:  \n\n\n\n\n\n\n\n\n\nTopics: \n\n\nGeneral Education\n\n\n\n\nInstructor(s):  \n\n\n\nRuth Durkee\, J.D. \n\n\n\n\n\nEvent Type:  \n\n\n\nHybrid \n\n\n\n\n\n\n\nGraduate Credits:  \n\n\n\n3 \n\n\n\n\n\n\n\nRegister\n\n\n\n\n\n\n\n\n\n\nParticipants must attend all events:  \n\n\n\n\nEvent Date\n\n\n\nEvent Date\n\n\n\n\n\n\n\n\n\nThis workshop is designed for educators who are new to the Science of Reading – the research that explains how children learn to read. Participants will explore the essential components of reading – including phonology\, phonics\, fluency\, vocabulary\, and comprehension – and learn how these elements work together to support literacy development. This workshop emphasizes how a structured literacy approach guides classroom instruction to support developing readers. Participants will see how the core practices of structured literacy – explicit instruction\, systemic skill progression\, and diagnostic teaching – can be applied to everyday classroom instruction. Through interactive activities\, case studies\, and guided discussions\, educators will gain practical tools to analyze student work\, interpret assessment data\, and plan targeted instruction. By the end of this workshop\, participants will have a solid understanding of the Science of Reading and a framework for implementing structured literacy practices that help students become confident\, skilled readers.Participants will be able to: \n\n\n\n\nDescribe the foundational principles of the Science of Reading.\n\n\n\nIdentify and explain the key components of reading and their place within a structured literacy framework. \n\n\n\nRecognize common reading challenges and their underlying causes.\n\n\n\nApply evidence-based strategies to support reading and literacy development. \n\n\n\nExplore how the essential principles of structured literacy inform lesson planning.\n\n\n\n\n\n\n\n\n\n\n\n\nPresented by\n\n\n\nNicole Gaboriault
URL:https://www.vthec.org/event/the-science-of-reading-with-a-structured-literacy-framework/
LOCATION:VT
CATEGORIES:Professional Learning,Workshops
ATTACH;FMTTYPE=image/jpeg:https://www.vthec.org/wp-content/uploads/2025/10/young_children_reading.jpg
END:VEVENT
END:VCALENDAR