BEGIN:VCALENDAR
VERSION:2.0
PRODID:-//Vermont Higher Education Collaborative - ECPv6.15.20//NONSGML v1.0//EN
CALSCALE:GREGORIAN
METHOD:PUBLISH
X-WR-CALNAME:Vermont Higher Education Collaborative
X-ORIGINAL-URL:https://www.vthec.org
X-WR-CALDESC:Events for Vermont Higher Education Collaborative
REFRESH-INTERVAL;VALUE=DURATION:PT1H
X-Robots-Tag:noindex
X-PUBLISHED-TTL:PT1H
BEGIN:VTIMEZONE
TZID:America/New_York
BEGIN:DAYLIGHT
TZOFFSETFROM:-0500
TZOFFSETTO:-0400
TZNAME:EDT
DTSTART:20250309T070000
END:DAYLIGHT
BEGIN:STANDARD
TZOFFSETFROM:-0400
TZOFFSETTO:-0500
TZNAME:EST
DTSTART:20251102T060000
END:STANDARD
BEGIN:DAYLIGHT
TZOFFSETFROM:-0500
TZOFFSETTO:-0400
TZNAME:EDT
DTSTART:20260308T070000
END:DAYLIGHT
BEGIN:STANDARD
TZOFFSETFROM:-0400
TZOFFSETTO:-0500
TZNAME:EST
DTSTART:20261101T060000
END:STANDARD
BEGIN:DAYLIGHT
TZOFFSETFROM:-0500
TZOFFSETTO:-0400
TZNAME:EDT
DTSTART:20270314T070000
END:DAYLIGHT
BEGIN:STANDARD
TZOFFSETFROM:-0400
TZOFFSETTO:-0500
TZNAME:EST
DTSTART:20271107T060000
END:STANDARD
END:VTIMEZONE
BEGIN:VEVENT
DTSTART;TZID=America/New_York:20260320T083000
DTEND;TZID=America/New_York:20260320T143000
DTSTAMP:20260422T042613
CREATED:20251203T182232Z
LAST-MODIFIED:20251204T232747Z
UID:10000229-1773995400-1774017000@www.vthec.org
SUMMARY:Executive Functioning in Action: Practical Strategies for Classroom Implementation
DESCRIPTION:Date:  \n\n\n\n\n\n\n\n\n\nPrice:  \n\n\n\n\n\n\n\n\n\n\n\nInstructor(s):  \n\n\n\nRuth Durkee\, J.D. \n\n\n\n\n\nEvent Type:  \n\n\n\nHybrid \n\n\n\n\n\n\n\nGraduate Credits:  \n\n\n\n3 \n\n\n\n\n\n\n\nRegister\n\n\n\n\n\n\n\n\n\n\nThis event includes a 90 minute recording to be viewed prior to attending the live workshop. \n\n\n\n\n\n\n\n\nThis recording and workshop series will equip educators with a working understanding of executive functioning (EF) and its critical role in student learning\, behavior\, and emotional regulation across grade levels. Participants will gain practical\, developmentally appropriate strategies to identify EF challenges\, adapt instruction\, and support students in building executive functioning skills. Grounded in inclusive education practices\, this training will empower educators to create supportive classroom environments that foster independence\, self-regulation\, and academic resilience for all learners.The recording will introduce the core components of EF\, including working memory\, cognitive flexibility\, and inhibitory control. They will examine how EF develops across childhood and adolescence\, how EF challenges manifest in different grade levels\, and how they intersect with learning disabilities\, ADHD\, and other complex needs. Foundational strategies for observing and supporting EF in the classroom will be shared.Participants will: \n\n\n\n\nDefine EF’s core components.\n\n\n\nDescribe how EF develops across childhood and adolescence.\n\n\n\nIdentify common signs of EF difficulties at different grade levels.\n\n\n\nRecognize the relationship between EF challenges and academic\, behavioral\, and emotional outcomes.\n\n\n\n\nThe workshop will build on the foundational learning from the recording\, guiding educators in embedding EF supports into everyday instruction and routines. With a focus on practical application\, participants will learn strategies for modeling metacognition\, scaffolding tasks\, supporting transitions\, and using visual prompts. Participants will explore how to adapt these tools for their setting through case examples and breakout discussions. The training will conclude with approaches for explicitly teaching EF skills—such as goal-setting\, task initiation\, and emotional regulation—while promoting student independence through balanced guidance\, structured supports\, and feedback loops.Participants will: \n\n\n\n\nApply classroom-based strategies to support organization\, time management\, and self-monitoring.\n\n\n\nIntegrate visual aids\, structured routines\, and prompts to scaffold EF skills in instruction.\n\n\n\nDesign classroom environments that promote autonomy\, goal-setting\, and problem-solving in students with varying EF needs.\n\n\n\n\n \n\n\n\n\n\n\n\n\n\n\n\n\n\n\n\n\n\n\nLearn more about our presenter:\n\n\n\nShaunessy Egan
URL:https://www.vthec.org/event/executive-functioning-in-action-practical-strategies-for-classroom-implementation/
LOCATION:VT
CATEGORIES:Professional Learning,Workshops
ATTACH;FMTTYPE=image/jpeg:https://www.vthec.org/wp-content/uploads/2025/04/getty-images-WXCroQFBhio-unsplash-scaled.jpg
END:VEVENT
END:VCALENDAR