BEGIN:VCALENDAR
VERSION:2.0
PRODID:-//Vermont Higher Education Collaborative - ECPv6.15.20//NONSGML v1.0//EN
CALSCALE:GREGORIAN
METHOD:PUBLISH
X-ORIGINAL-URL:https://www.vthec.org
X-WR-CALDESC:Events for Vermont Higher Education Collaborative
REFRESH-INTERVAL;VALUE=DURATION:PT1H
X-Robots-Tag:noindex
X-PUBLISHED-TTL:PT1H
BEGIN:VTIMEZONE
TZID:America/New_York
BEGIN:DAYLIGHT
TZOFFSETFROM:-0500
TZOFFSETTO:-0400
TZNAME:EDT
DTSTART:20250309T070000
END:DAYLIGHT
BEGIN:STANDARD
TZOFFSETFROM:-0400
TZOFFSETTO:-0500
TZNAME:EST
DTSTART:20251102T060000
END:STANDARD
BEGIN:DAYLIGHT
TZOFFSETFROM:-0500
TZOFFSETTO:-0400
TZNAME:EDT
DTSTART:20260308T070000
END:DAYLIGHT
BEGIN:STANDARD
TZOFFSETFROM:-0400
TZOFFSETTO:-0500
TZNAME:EST
DTSTART:20261101T060000
END:STANDARD
BEGIN:DAYLIGHT
TZOFFSETFROM:-0500
TZOFFSETTO:-0400
TZNAME:EDT
DTSTART:20270314T070000
END:DAYLIGHT
BEGIN:STANDARD
TZOFFSETFROM:-0400
TZOFFSETTO:-0500
TZNAME:EST
DTSTART:20271107T060000
END:STANDARD
END:VTIMEZONE
BEGIN:VEVENT
DTSTART;TZID=America/New_York:20260129T083000
DTEND;TZID=America/New_York:20260129T143000
DTSTAMP:20260420T083149
CREATED:20251121T155954Z
LAST-MODIFIED:20251210T195816Z
UID:10000214-1769675400-1769697000@www.vthec.org
SUMMARY:Planning for Independence with Data Driven Behavioral Supports
DESCRIPTION:Date:  \n\n\n\n\n\n\n\n\n\nPrice:  \n\n\n\n\n\n\n\n\n\nTopics: \n\n\nGeneral Education\n\n\n\n\nInstructor(s):  \n\n\n\nRuth Durkee\, J.D. \n\n\n\n\n\nEvent Type:  \n\n\n\nHybrid \n\n\n\n\n\n\n\nGraduate Credits:  \n\n\n\n3 \n\n\n\n\n\n\n\nRegister\n\n\n\n\n\n\n\n\n\n\nParticipants must attend all events:  \n\n\n\n\nEvent Date\n\n\n\nEvent Date\n\n\n\n\n\n\n\n\n\nBehavioral support planning should start with the end goal in mind: helping students build the skills for long-term regulation and engagement. Yet in daily practice\, how students communicate their needs often demands our immediate attention\, making it easy to lose sight of the larger goal of skill-building and independence.Participants will examine how strengths-based\, collaborative planning can foster growth and belonging within a comprehensive student support system. They will explore the behavior support planning process by engaging with a mock behavior plan template and case example to consider how to promote independence while meeting each student where they are.  \n\n\n\nParticipants will also learn to integrate high leverage practices that enhance engagement\, build self-regulation\, and promote authentic participation across environments. Participants will: \n\n\n\n\nExamine the role of behavior support planning within a holistic system of student supports\n\n\n\nUnderstand the essential components of a comprehensive and strengths-based behavior support plan\n\n\n\nIdentify the importance of and strategies for incorporating student/caregiver voice at all stages of behavior support planning and implementation\n\n\n\nRecognize how behavioral shaping and skill-building support long-term success\n\n\n\n\n\n\n\n\n\n\n\n\nPresented by\n\n\n\nJeremy Tretiak
URL:https://www.vthec.org/event/planning-for-independence-with-data-driven-behavioral-supports/
LOCATION:VT
CATEGORIES:Professional Learning,Workshops
ATTACH;FMTTYPE=image/jpeg:https://www.vthec.org/wp-content/uploads/2025/08/cheerful-students-enjoying-a-break-in-a-lively-diverse-classroom-setting.-5212676-scaled.jpg
END:VEVENT
END:VCALENDAR